BEGIN:VCALENDAR
VERSION:2.0
PRODID:-//ChamberMaster//Event Calendar 2.0//EN
METHOD:PUBLISH
X-PUBLISHED-TTL:P3D
REFRESH-INTERVAL:P3D
CALSCALE:GREGORIAN
BEGIN:VEVENT
DTSTART:20190102T140000Z
DTEND:20190104T230000Z
X-MICROSOFT-CDO-ALLDAYEVENT:FALSE
SUMMARY:Winter Wonderland Art Camp
DESCRIPTION:Let's celebrate winter in all its glory while kids are still out for holiday break. Prices range from $75 for a half-day session and $135 for a full day. Full day children are advised to bring a lunch.\n\nhttps://oxfordarts.com/shop/product/852-2019-winter-wonderland-art-camp
X-ALT-DESC;FMTTYPE=text/html:Let&#39\;s celebrate winter in all its glory while kids are still out for holiday break. Prices range from $75 for a half-day session and $135 for a full day. Full day children are advised to bring a lunch.<br />\nhttps://oxfordarts.com/shop/product/852-2019-winter-wonderland-art-camp
LOCATION:This event will take place at the Powerhouse.
UID:e.1330.2856
SEQUENCE:3
DTSTAMP:20260424T174313Z
URL:https://business.oxfordms.com/events/details/winter-wonderland-art-camp-01-02-2019-2856
END:VEVENT

END:VCALENDAR
