BEGIN:VCALENDAR
VERSION:2.0
PRODID:-//ChamberMaster//Event Calendar 2.0//EN
METHOD:PUBLISH
X-PUBLISHED-TTL:P3D
REFRESH-INTERVAL:P3D
CALSCALE:GREGORIAN
BEGIN:VEVENT
DTSTART:20190524T000000Z
DTEND:20190527T040000Z
X-MICROSOFT-CDO-ALLDAYEVENT:FALSE
SUMMARY:World Championship Old-Time Piano Playing Contest & Festival
DESCRIPTION:The 45th annual World Championship Old-Time Piano Contest & Festival will take place in Oxford May 23-26\, 2019 featuring pianists from across the U.S. and Europe. If you like music from the days of Tin Pan Alley ... ragtime\, traditional jazz and blues\, then you'll love the rollicking piano styles of the pianists of all ages set to compete. The weekend includes junior\, regular & senior division contests\, a New Rag Contest\, workshops\, sing-along\, silent movies\, various catered events & a Blues excursion to Clarksdale\, MS. This is the ONLY comprehensive competition for pianists of this style.
X-ALT-DESC;FMTTYPE=text/html:The 45th annual World Championship Old-Time Piano Contest &amp\; Festival will take place in Oxford May 23-26\, 2019 featuring pianists from across the U.S. and Europe. If you like music from the days of Tin Pan Alley ... ragtime\, traditional jazz and blues\, then you&#39\;ll love the rollicking piano styles of the pianists of all ages set to compete. The weekend includes junior\, regular &amp\; senior division contests\, a New Rag Contest\, workshops\, sing-along\, silent movies\, various catered events &amp\; a Blues excursion to Clarksdale\, MS. This is the ONLY comprehensive competition for pianists of this style.
LOCATION:All contests and workshops take place in Nutt Auditorium inside the Music Building on the Ole Miss campus. All after-hours events are held at Chancellor's House on the Square.
UID:e.1330.3092
SEQUENCE:3
DTSTAMP:20260424T124100Z
URL:https://business.oxfordms.com/events/details/world-championship-old-time-piano-playing-contest-festival-05-23-2019-3092
END:VEVENT

END:VCALENDAR
