BEGIN:VCALENDAR
VERSION:2.0
PRODID:-//ChamberMaster//Event Calendar 2.0//EN
METHOD:PUBLISH
X-PUBLISHED-TTL:P3D
REFRESH-INTERVAL:P3D
CALSCALE:GREGORIAN
BEGIN:VEVENT
DTSTART:20200120T220000Z
DTEND:20200121T000000Z
X-MICROSOFT-CDO-ALLDAYEVENT:FALSE
SUMMARY:Yappy Hour
DESCRIPTION:An open invitation to all dog lovers within the Oxford community. Join us for a meet up for dogs (and their humans!) benefiting Mississippi Critterz\, the local no-kill animal shelter. Enjoy specialty cocktails\, complimentary light bites and treats for your furry best friends.
X-ALT-DESC;FMTTYPE=text/html:An open invitation to all dog lovers within the Oxford community. Join us for a meet up for dogs (and their humans!) benefiting Mississippi Critterz\, the local no-kill animal shelter. Enjoy specialty cocktails\, complimentary light bites and treats for your furry best friends.
LOCATION:The Graduate - Cabin 82 400 N Lamar Blvd\, Oxford\, MS 38655
UID:e.1330.3161
SEQUENCE:3
DTSTAMP:20260424T003351Z
URL:https://business.oxfordms.com/events/details/yappy-hour-01-20-2020-3161
END:VEVENT

END:VCALENDAR
