BEGIN:VCALENDAR
VERSION:2.0
PRODID:-//ChamberMaster//Event Calendar 2.0//EN
METHOD:PUBLISH
X-PUBLISHED-TTL:P3D
REFRESH-INTERVAL:P3D
CALSCALE:GREGORIAN
BEGIN:VEVENT
DTSTART:20190202T200000Z
DTEND:20190202T210000Z
X-MICROSOFT-CDO-ALLDAYEVENT:FALSE
SUMMARY:Yoga with Cats
DESCRIPTION:A purrrfect way to relax! Join us for Mississippi Critterz' first ever Yoga with Cats and kittens. All sizes\, levels\, and abilities are welcome. Please bring your own yoga mat. Free event. Donations for Mississippi Critterz' animal shelter in Oxford are welcome.
X-ALT-DESC;FMTTYPE=text/html:A purrrfect way to relax! Join us for Mississippi Critterz&#39\; first ever Yoga with Cats and kittens. All sizes\, levels\, and abilities are welcome. Please bring your own yoga mat. Free event. Donations for Mississippi Critterz&#39\; animal shelter in Oxford are welcome.
LOCATION:Jackson Square Condominiums Club house 119 Chestnut Str. Oxford\, MS 38655
UID:e.1330.3073
SEQUENCE:3
DTSTAMP:20260424T162708Z
URL:https://business.oxfordms.com/events/details/yoga-with-cats-02-02-2019-3073
END:VEVENT

END:VCALENDAR
